{
 "extent": {
  "ymin": 5631175.0534474961,
  "xmin": 490427.06579905719,
  "ymax": 5631720.1146802483,
  "xmax": 490891.55358092132,
  "spatialReference": {
   "latestVcsWkid": 5773,
   "latestWkid": 32633,
   "wkid": 32633,
   "vcsWkid": 5773
  }
 },
 "blockWidth": 128,
 "mosaicOperator": "First",
 "serviceSourceType": "esriImageServiceSourceTypeDataset",
 "hasMultidimensions": false,
 "maxImageWidth": 15000,
 "meanValues": [
  119.13693305642323,
  127.70619043474613,
  80.681625976543572
 ],
 "hasColormap": false,
 "compressionType": "LZ77",
 "defaultCompressionQuality": 75,
 "maxValues": [
  254,
  254,
  254
 ],
 "hasHistograms": true,
 "datasetFormat": "FGDBR",
 "maxImageHeight": 4100,
 "sortField": "",
 "bandNames": [
  "Band_1",
  "Band_2",
  "Band_3"
 ],
 "spatialReference": {
  "latestVcsWkid": 5773,
  "latestWkid": 32633,
  "wkid": 32633,
  "vcsWkid": 5773
 },
 "fullExtent": {
  "ymin": 5631175.0534474961,
  "xmin": 490427.06579905719,
  "ymax": 5631720.1146802483,
  "xmax": 490891.55358092132,
  "spatialReference": {
   "latestVcsWkid": 5773,
   "latestWkid": 32633,
   "wkid": 32633,
   "vcsWkid": 5773
  }
 },
 "bandCount": 3,
 "rasterFunctionInfos": [
  {
   "help": "",
   "name": "None",
   "description": ""
  }
 ],
 "supportsStatistics": false,
 "sortableFields": "",
 "minValues": [
  1,
  1,
  1
 ],
 "allowRasterFunction": true,
 "allowComputeTiePoints": false,
 "serviceDataType": "esriImageServiceDataTypeRGB",
 "supportsAdvancedQueries": false,
 "currentVersion": 12,
 "heightModelInfo": {
  "vertCRS": "EGM96_Geoid",
  "heightModel": "gravity_related_height",
  "heightUnit": "meter"
 },
 "sortValue": null,
 "objectIdField": "",
 "blockHeight": 128,
 "initialExtent": {
  "ymin": 5631175.0534474961,
  "xmin": 490427.06579905719,
  "ymax": 5631720.1146802483,
  "xmax": 490891.55358092132,
  "spatialReference": {
   "latestVcsWkid": 5773,
   "latestWkid": 32633,
   "wkid": 32633,
   "vcsWkid": 5773
  }
 },
 "pixelSizeX": 0.027322810697889721,
 "pixelSizeY": 0.027253061637608333,
 "defaultMosaicMethod": "Center",
 "name": "08/Chotyne25_tif",
 "allowedMosaicMethods": "",
 "fields": [],
 "allowAnalysis": true,
 "hasRasterAttributeTable": false,
 "useStandardizedQueries": false,
 "description": "",
 "pixelType": "U8",
 "meanPixelSize": 0.027287936167749029,
 "exportTilesAllowed": false,
 "editFieldsInfo": null,
 "rasterTypeInfos": [
  {
   "help": "",
   "name": "Raster Dataset",
   "description": "Supports all ArcGIS Raster Datasets"
  }
 ],
 "defaultResamplingMethod": "Bilinear",
 "itemAccess": false,
 "minScale": 0,
 "serviceProperties": "Center<\/MosaicMethod>First<\/MosaicOperator>true<\/SortAscending><\/LockImageID><\/TileOrderField>0<\/TileOrderBase>0,000000<\/AvgImageSpacingX>0,000000<\/AvgImageSpacingY>0.0<\/ViewPointX>0.0<\/ViewPointY>0.0<\/ViewPointDefShiftX>0.0<\/ViewPointDefShiftY>None<\/CompressionMethod>75<\/CompressionQuality>0,010000<\/CompressionTolerance>Bilinear<\/SamplingMethod><\/ImageServiceProperties><\/ImageServer>",
 "advancedQueryCapabilities": {
  "supportsStatistics": false,
  "supportsSqlExpression": false,
  "supportsOrderBy": false,
  "useStandardizedQueries": false,
  "supportsPagination": false,
  "supportsDistinct": false
 },
 "capabilities": "Mensuration,Image,Metadata",
 "maxScale": 0,
 "stdvValues": [
  65.531467969406123,
  59.308158913536936,
  61.0628801488837
 ],
 "allowedFields": "",
 "minPixelSize": 0,
 "resampling": false,
 "sortAscending": true,
 "inspectionCapabilities": "",
 "maxPixelSize": 0,
 "uncompressedSize": 1020000000,
 "serviceDescription": "08/Chotyne25_tif",
 "allowCopy": true,
 "copyrightText": "",
 "mensurationCapabilities": "Basic",
 "ownershipBasedAccessControlForRasters": null
}
