{
 "extent": {
  "ymin": 5639920.5837147366,
  "xmin": 507076.58387251396,
  "ymax": 5640968.6721909177,
  "xmax": 507882.8057772686,
  "spatialReference": {
   "latestVcsWkid": 5773,
   "latestWkid": 32633,
   "wkid": 32633,
   "vcsWkid": 5773
  }
 },
 "blockWidth": 128,
 "mosaicOperator": "First",
 "serviceSourceType": "esriImageServiceSourceTypeDataset",
 "hasMultidimensions": false,
 "maxImageWidth": 15000,
 "meanValues": [
  125.53304762380635,
  130.9632647208756,
  86.133648174036182
 ],
 "hasColormap": false,
 "compressionType": "NONE",
 "defaultCompressionQuality": 75,
 "maxValues": [
  254,
  254,
  254
 ],
 "hasHistograms": true,
 "datasetFormat": "FGDBR",
 "maxImageHeight": 4100,
 "sortField": "",
 "bandNames": [
  "Red",
  "Green",
  "Blue"
 ],
 "spatialReference": {
  "latestVcsWkid": 5773,
  "latestWkid": 32633,
  "wkid": 32633,
  "vcsWkid": 5773
 },
 "fullExtent": {
  "ymin": 5639920.5837147366,
  "xmin": 507076.58387251396,
  "ymax": 5640968.6721909177,
  "xmax": 507882.8057772686,
  "spatialReference": {
   "latestVcsWkid": 5773,
   "latestWkid": 32633,
   "wkid": 32633,
   "vcsWkid": 5773
  }
 },
 "bandCount": 3,
 "rasterFunctionInfos": [
  {
   "help": "",
   "name": "None",
   "description": ""
  }
 ],
 "supportsStatistics": false,
 "sortableFields": "",
 "minValues": [
  1,
  1,
  1
 ],
 "allowRasterFunction": true,
 "allowComputeTiePoints": false,
 "serviceDataType": "esriImageServiceDataTypeRGB",
 "supportsAdvancedQueries": false,
 "currentVersion": 12,
 "heightModelInfo": {
  "vertCRS": "EGM96_height",
  "heightModel": "gravity_related_height",
  "heightUnit": "meter"
 },
 "sortValue": null,
 "objectIdField": "",
 "blockHeight": 128,
 "initialExtent": {
  "ymin": 5639920.5837147366,
  "xmin": 507076.58387251396,
  "ymax": 5640968.6721909177,
  "xmax": 507882.8057772686,
  "spatialReference": {
   "latestVcsWkid": 5773,
   "latestWkid": 32633,
   "wkid": 32633,
   "vcsWkid": 5773
  }
 },
 "pixelSizeX": 0.026874063491821289,
 "pixelSizeY": 0.026874063491821289,
 "defaultMosaicMethod": "Center",
 "name": "08/Frydlant_statek_26_04",
 "allowedMosaicMethods": "",
 "fields": [],
 "allowAnalysis": true,
 "hasRasterAttributeTable": false,
 "useStandardizedQueries": false,
 "description": "",
 "pixelType": "U8",
 "meanPixelSize": 0.026874063491821289,
 "exportTilesAllowed": false,
 "editFieldsInfo": null,
 "rasterTypeInfos": [
  {
   "help": "",
   "name": "Raster Dataset",
   "description": "Supports all ArcGIS Raster Datasets"
  }
 ],
 "defaultResamplingMethod": "Bilinear",
 "itemAccess": false,
 "minScale": 0,
 "serviceProperties": "Center<\/MosaicMethod>First<\/MosaicOperator>true<\/SortAscending><\/LockImageID><\/TileOrderField>0<\/TileOrderBase>0,000000<\/AvgImageSpacingX>0,000000<\/AvgImageSpacingY>0.0<\/ViewPointX>0.0<\/ViewPointY>0.0<\/ViewPointDefShiftX>0.0<\/ViewPointDefShiftY>None<\/CompressionMethod>75<\/CompressionQuality>0,010000<\/CompressionTolerance>Bilinear<\/SamplingMethod><\/ImageServiceProperties><\/ImageServer>",
 "advancedQueryCapabilities": {
  "supportsStatistics": false,
  "supportsSqlExpression": false,
  "supportsOrderBy": false,
  "useStandardizedQueries": false,
  "supportsPagination": false,
  "supportsDistinct": false
 },
 "capabilities": "Mensuration,Image,Metadata",
 "maxScale": 0,
 "stdvValues": [
  44.018863489524669,
  40.084901261144509,
  42.670633919104645
 ],
 "allowedFields": "",
 "minPixelSize": 0,
 "resampling": false,
 "sortAscending": true,
 "inspectionCapabilities": "",
 "maxPixelSize": 0,
 "uncompressedSize": 3510000000,
 "serviceDescription": "08/Frydlant_statek_26_04",
 "allowCopy": true,
 "copyrightText": "",
 "mensurationCapabilities": "Basic",
 "ownershipBasedAccessControlForRasters": null
}
