<?xml version="1.0" encoding="UTF-8" standalone="no"?>
<metadata xml:lang="cs">
<Esri>
<CreaDate>20250926</CreaDate>
<CreaTime>13473600</CreaTime>
<ArcGISFormat>1.0</ArcGISFormat>
<SyncOnce>FALSE</SyncOnce>
<DataProperties>
<lineage>
<Process Date="20250926" Time="134736" ToolSource="c:\program files\arcgis\pro\Resources\ArcToolbox\toolboxes\Data Management Tools.tbx\Rename">Rename "D:\_dron 2025\250812_911_039_Manusice1\Manusice_1\True Ortho.tif" "D:\_dron 2025\250812_911_039_Manusice1\Manusice_1\Manusice25_1_True Ortho.tif" RasterDataset</Process>
<Process Date="20250926" Time="135423" ToolSource="c:\program files\arcgis\pro\Resources\ArcToolbox\toolboxes\Data Management Tools.tbx\CopyRaster">CopyRaster "Manusice25_1_True Ortho.tif" "C:\Users\KneysovaV\OneDrive - KULK\Dokumenty\ArcGIS\Projects\MyProject11\MyProject11.gdb\Manusice25_1_True_Ortho_tif" # # # NONE NONE # NONE NONE GRID NONE CURRENT_SLICE NO_TRANSPOSE</Process>
</lineage>
<itemProps>
<itemName Sync="TRUE">Manusice25_1_True_Ortho_tif</itemName>
<imsContentType Sync="TRUE">002</imsContentType>
<nativeExtBox>
<westBL Sync="TRUE">465491.501426</westBL>
<eastBL Sync="TRUE">465614.656814</eastBL>
<southBL Sync="TRUE">5617751.666564</southBL>
<northBL Sync="TRUE">5617895.347850</northBL>
<exTypeCode Sync="TRUE">1</exTypeCode>
</nativeExtBox>
<itemLocation>
<linkage Sync="TRUE">file://\\08-KNEYSOVA\C$\Users\KneysovaV\OneDrive - KULK\Dokumenty\ArcGIS\Projects\MyProject11\MyProject11.gdb</linkage>
<protocol Sync="TRUE">Local Area Network</protocol>
</itemLocation>
</itemProps>
</DataProperties>
<SyncDate>20250926</SyncDate>
<SyncTime>13542200</SyncTime>
<ModDate>20250926</ModDate>
<ModTime>13542200</ModTime>
</Esri>
<dataIdInfo>
<envirDesc Sync="TRUE">Microsoft Windows 10 Version 10.0 (Build 26100) ; Esri ArcGIS 13.4.0.55405</envirDesc>
<dataLang>
<languageCode Sync="TRUE" value="ces"/>
<countryCode Sync="TRUE" value="CZE"/>
</dataLang>
<idCitation>
<resTitle Sync="TRUE">Manusice25_1_True_Ortho_tif</resTitle>
<presForm>
<PresFormCd Sync="TRUE" value="011"/>
</presForm>
</idCitation>
<spatRpType>
<SpatRepTypCd Sync="TRUE" value="002"/>
</spatRpType>
<idAbs/>
<idPurp/>
<idCredit/>
<resConst>
<Consts>
<useLimit/>
</Consts>
</resConst>
</dataIdInfo>
<mdLang>
<languageCode Sync="TRUE" value="ces"/>
<countryCode Sync="TRUE" value="CZE"/>
</mdLang>
<distInfo>
<distFormat>
<formatName Sync="TRUE">Rastrová datová sada souborové geodatabáze</formatName>
</distFormat>
</distInfo>
<mdHrLv>
<ScopeCd Sync="TRUE" value="005"/>
</mdHrLv>
<mdHrLvName Sync="TRUE">dataset</mdHrLvName>
<spdoinfo>
<rastinfo>
<rasttype Sync="TRUE">Pixel</rasttype>
<rowcount Sync="TRUE">7000</rowcount>
<colcount Sync="TRUE">6000</colcount>
<rastxsz Sync="TRUE">0,020526</rastxsz>
<rastysz Sync="TRUE">0,020526</rastysz>
<rastbpp Sync="TRUE">8</rastbpp>
<vrtcount Sync="TRUE">1</vrtcount>
<rastorig Sync="TRUE">Upper Left</rastorig>
<rastcmap Sync="TRUE">FALSE</rastcmap>
<rastcomp Sync="TRUE">LZ77</rastcomp>
<rastband Sync="TRUE">3</rastband>
<rastdtyp Sync="TRUE">pixel codes</rastdtyp>
<rastifor Sync="TRUE">FGDBR</rastifor>
<rastplyr Sync="TRUE">TRUE</rastplyr>
</rastinfo>
</spdoinfo>
<spref>
<horizsys>
<planar>
<planci>
<plance Sync="TRUE">row and column</plance>
<coordrep>
<absres Sync="TRUE">0,020526</absres>
<ordres Sync="TRUE">0,020526</ordres>
</coordrep>
</planci>
</planar>
</horizsys>
</spref>
<mdDateSt Sync="TRUE">20250926</mdDateSt>
</metadata>
