{
 "extent": {
  "ymin": 5599773.621677747,
  "xmin": 507292.1754699517,
  "ymax": 5600457.9259086372,
  "xmax": 508397.81624495122,
  "spatialReference": {
   "latestVcsWkid": 5773,
   "latestWkid": 32633,
   "wkid": 32633,
   "vcsWkid": 5773
  }
 },
 "blockWidth": 128,
 "mosaicOperator": "First",
 "serviceSourceType": "esriImageServiceSourceTypeDataset",
 "hasMultidimensions": false,
 "maxImageWidth": 15000,
 "meanValues": [
  127.87208869714996,
  128.04443333438726,
  101.90784907457748
 ],
 "hasColormap": false,
 "compressionType": "NONE",
 "defaultCompressionQuality": 75,
 "maxValues": [
  254,
  254,
  254
 ],
 "hasHistograms": true,
 "datasetFormat": "FGDBR",
 "maxImageHeight": 4100,
 "sortField": "",
 "bandNames": [
  "Red",
  "Green",
  "Blue"
 ],
 "spatialReference": {
  "latestVcsWkid": 5773,
  "latestWkid": 32633,
  "wkid": 32633,
  "vcsWkid": 5773
 },
 "fullExtent": {
  "ymin": 5599773.621677747,
  "xmin": 507292.1754699517,
  "ymax": 5600457.9259086372,
  "xmax": 508397.81624495122,
  "spatialReference": {
   "latestVcsWkid": 5773,
   "latestWkid": 32633,
   "wkid": 32633,
   "vcsWkid": 5773
  }
 },
 "bandCount": 3,
 "rasterFunctionInfos": [
  {
   "help": "",
   "name": "None",
   "description": ""
  }
 ],
 "supportsStatistics": false,
 "sortableFields": "",
 "minValues": [
  1,
  1,
  1
 ],
 "allowRasterFunction": true,
 "allowComputeTiePoints": false,
 "serviceDataType": "esriImageServiceDataTypeRGB",
 "supportsAdvancedQueries": false,
 "currentVersion": 12,
 "heightModelInfo": {
  "vertCRS": "EGM96_height",
  "heightModel": "gravity_related_height",
  "heightUnit": "meter"
 },
 "sortValue": null,
 "objectIdField": "",
 "blockHeight": 128,
 "initialExtent": {
  "ymin": 5599773.621677747,
  "xmin": 507292.1754699517,
  "ymax": 5600457.9259086372,
  "xmax": 508397.81624495122,
  "spatialReference": {
   "latestVcsWkid": 5773,
   "latestWkid": 32633,
   "wkid": 32633,
   "vcsWkid": 5773
  }
 },
 "pixelSizeX": 0.023524271808500263,
 "pixelSizeY": 0.023596697616904718,
 "defaultMosaicMethod": "Center",
 "name": "08/OrthoVsen",
 "allowedMosaicMethods": "",
 "fields": [],
 "allowAnalysis": true,
 "hasRasterAttributeTable": false,
 "useStandardizedQueries": false,
 "description": "",
 "pixelType": "U8",
 "meanPixelSize": 0.02356048471270249,
 "exportTilesAllowed": false,
 "editFieldsInfo": null,
 "rasterTypeInfos": [
  {
   "help": "",
   "name": "Raster Dataset",
   "description": "Supports all ArcGIS Raster Datasets"
  }
 ],
 "defaultResamplingMethod": "Bilinear",
 "itemAccess": false,
 "minScale": 0,
 "serviceProperties": "Center<\/MosaicMethod>First<\/MosaicOperator>true<\/SortAscending><\/LockImageID><\/TileOrderField>0<\/TileOrderBase>0,000000<\/AvgImageSpacingX>0,000000<\/AvgImageSpacingY>0.0<\/ViewPointX>0.0<\/ViewPointY>0.0<\/ViewPointDefShiftX>0.0<\/ViewPointDefShiftY>None<\/CompressionMethod>75<\/CompressionQuality>0,010000<\/CompressionTolerance>Bilinear<\/SamplingMethod><\/ImageServiceProperties><\/ImageServer>",
 "advancedQueryCapabilities": {
  "supportsStatistics": false,
  "supportsSqlExpression": false,
  "supportsOrderBy": false,
  "useStandardizedQueries": false,
  "supportsPagination": false,
  "supportsDistinct": false
 },
 "capabilities": "Mensuration,Image,Metadata",
 "maxScale": 0,
 "stdvValues": [
  22.958229092211067,
  22.595868804069465,
  24.583062898011221
 ],
 "allowedFields": "",
 "minPixelSize": 0,
 "resampling": false,
 "sortAscending": true,
 "inspectionCapabilities": "",
 "maxPixelSize": 0,
 "uncompressedSize": 4089000000,
 "serviceDescription": "08/OrthoVsen",
 "allowCopy": true,
 "copyrightText": "",
 "mensurationCapabilities": "Basic",
 "ownershipBasedAccessControlForRasters": null
}
