{
 "extent": {
  "ymin": 5616300.3970921077,
  "xmin": 463861.02186989033,
  "ymax": 5616856.3737937855,
  "xmax": 464884.29302741215,
  "spatialReference": {
   "latestVcsWkid": 5773,
   "latestWkid": 32633,
   "wkid": 32633,
   "vcsWkid": 5773
  }
 },
 "blockWidth": 128,
 "mosaicOperator": "First",
 "serviceSourceType": "esriImageServiceSourceTypeDataset",
 "hasMultidimensions": false,
 "maxImageWidth": 15000,
 "meanValues": [
  108.18502625981831,
  114.44507714240548,
  71.928515606781829
 ],
 "hasColormap": false,
 "compressionType": "NONE",
 "defaultCompressionQuality": 75,
 "maxValues": [
  254,
  254,
  254
 ],
 "hasHistograms": true,
 "datasetFormat": "FGDBR",
 "maxImageHeight": 4100,
 "sortField": "",
 "bandNames": [
  "Band_1",
  "Band_2",
  "Band_3"
 ],
 "spatialReference": {
  "latestVcsWkid": 5773,
  "latestWkid": 32633,
  "wkid": 32633,
  "vcsWkid": 5773
 },
 "fullExtent": {
  "ymin": 5616300.3970921077,
  "xmin": 463861.02186989033,
  "ymax": 5616856.3737937855,
  "xmax": 464884.29302741215,
  "spatialReference": {
   "latestVcsWkid": 5773,
   "latestWkid": 32633,
   "wkid": 32633,
   "vcsWkid": 5773
  }
 },
 "bandCount": 3,
 "rasterFunctionInfos": [
  {
   "help": "",
   "name": "None",
   "description": ""
  }
 ],
 "supportsStatistics": false,
 "sortableFields": "",
 "minValues": [
  1,
  1,
  1
 ],
 "allowRasterFunction": true,
 "allowComputeTiePoints": false,
 "serviceDataType": "esriImageServiceDataTypeRGB",
 "supportsAdvancedQueries": false,
 "currentVersion": 12,
 "heightModelInfo": {
  "vertCRS": "EGM96_Geoid",
  "heightModel": "gravity_related_height",
  "heightUnit": "meter"
 },
 "sortValue": null,
 "objectIdField": "",
 "blockHeight": 128,
 "initialExtent": {
  "ymin": 5616300.3970921077,
  "xmin": 463861.02186989033,
  "ymax": 5616856.3737937855,
  "xmax": 464884.29302741215,
  "spatialReference": {
   "latestVcsWkid": 5773,
   "latestWkid": 32633,
   "wkid": 32633,
   "vcsWkid": 5773
  }
 },
 "pixelSizeX": 0.025581778938045318,
 "pixelSizeY": 0.025271668258080766,
 "defaultMosaicMethod": "Center",
 "name": "08/cihelenske_rybniky",
 "allowedMosaicMethods": "",
 "fields": [],
 "allowAnalysis": true,
 "hasRasterAttributeTable": false,
 "useStandardizedQueries": false,
 "description": "",
 "pixelType": "U8",
 "meanPixelSize": 0.025426723598063042,
 "exportTilesAllowed": false,
 "editFieldsInfo": null,
 "rasterTypeInfos": [
  {
   "help": "",
   "name": "Raster Dataset",
   "description": "Supports all ArcGIS Raster Datasets"
  }
 ],
 "defaultResamplingMethod": "Bilinear",
 "itemAccess": false,
 "minScale": 0,
 "serviceProperties": "Center<\/MosaicMethod>First<\/MosaicOperator>true<\/SortAscending><\/LockImageID><\/TileOrderField>0<\/TileOrderBase>0,000000<\/AvgImageSpacingX>0,000000<\/AvgImageSpacingY>0.0<\/ViewPointX>0.0<\/ViewPointY>0.0<\/ViewPointDefShiftX>0.0<\/ViewPointDefShiftY>None<\/CompressionMethod>75<\/CompressionQuality>0,010000<\/CompressionTolerance>Bilinear<\/SamplingMethod><\/ImageServiceProperties><\/ImageServer>",
 "advancedQueryCapabilities": {
  "supportsStatistics": false,
  "supportsSqlExpression": false,
  "supportsOrderBy": false,
  "useStandardizedQueries": false,
  "supportsPagination": false,
  "supportsDistinct": false
 },
 "capabilities": "Mensuration,Image,Metadata",
 "maxScale": 0,
 "stdvValues": [
  52.910943977425461,
  48.173301596771118,
  38.384549543783926
 ],
 "allowedFields": "",
 "minPixelSize": 0,
 "resampling": false,
 "sortAscending": true,
 "inspectionCapabilities": "",
 "maxPixelSize": 0,
 "uncompressedSize": 2640000000,
 "serviceDescription": "08/cihelenske_rybniky",
 "allowCopy": true,
 "copyrightText": "",
 "mensurationCapabilities": "Basic",
 "ownershipBasedAccessControlForRasters": null
}
