{
 "extent": {
  "ymin": 5614027.0565396082,
  "xmin": 464787.96939426142,
  "ymax": 5614258.8954220545,
  "xmax": 465019.80827670771,
  "spatialReference": {
   "latestVcsWkid": 5773,
   "latestWkid": 32633,
   "wkid": 32633,
   "vcsWkid": 5773
  }
 },
 "blockWidth": 128,
 "mosaicOperator": "First",
 "serviceSourceType": "esriImageServiceSourceTypeDataset",
 "hasMultidimensions": false,
 "maxImageWidth": 15000,
 "meanValues": [
  133.86009172102735,
  141.01572132647917,
  90.807697885631228
 ],
 "hasColormap": false,
 "compressionType": "NONE",
 "defaultCompressionQuality": 75,
 "maxValues": [
  254,
  254,
  254
 ],
 "hasHistograms": true,
 "datasetFormat": "FGDBR",
 "maxImageHeight": 4100,
 "sortField": "",
 "bandNames": [
  "Red",
  "Green",
  "Blue"
 ],
 "spatialReference": {
  "latestVcsWkid": 5773,
  "latestWkid": 32633,
  "wkid": 32633,
  "vcsWkid": 5773
 },
 "fullExtent": {
  "ymin": 5614027.0565396082,
  "xmin": 464787.96939426142,
  "ymax": 5614258.8954220545,
  "xmax": 465019.80827670771,
  "spatialReference": {
   "latestVcsWkid": 5773,
   "latestWkid": 32633,
   "wkid": 32633,
   "vcsWkid": 5773
  }
 },
 "bandCount": 3,
 "rasterFunctionInfos": [
  {
   "help": "",
   "name": "None",
   "description": ""
  }
 ],
 "supportsStatistics": false,
 "sortableFields": "",
 "minValues": [
  1,
  1,
  1
 ],
 "allowRasterFunction": true,
 "allowComputeTiePoints": false,
 "serviceDataType": "esriImageServiceDataTypeRGB",
 "supportsAdvancedQueries": false,
 "currentVersion": 12,
 "heightModelInfo": {
  "vertCRS": "EGM96_Geoid",
  "heightModel": "gravity_related_height",
  "heightUnit": "meter"
 },
 "sortValue": null,
 "objectIdField": "",
 "blockHeight": 128,
 "initialExtent": {
  "ymin": 5614027.0565396082,
  "xmin": 464787.96939426142,
  "ymax": 5614258.8954220545,
  "xmax": 465019.80827670771,
  "spatialReference": {
   "latestVcsWkid": 5773,
   "latestWkid": 32633,
   "wkid": 32633,
   "vcsWkid": 5773
  }
 },
 "pixelSizeX": 0.028979860305786132,
 "pixelSizeY": 0.028979860305786132,
 "defaultMosaicMethod": "Center",
 "name": "08/mnisske_louky1_",
 "allowedMosaicMethods": "",
 "fields": [],
 "allowAnalysis": true,
 "hasRasterAttributeTable": false,
 "useStandardizedQueries": false,
 "description": "",
 "pixelType": "U8",
 "meanPixelSize": 0.028979860305786132,
 "exportTilesAllowed": false,
 "editFieldsInfo": null,
 "rasterTypeInfos": [
  {
   "help": "",
   "name": "Raster Dataset",
   "description": "Supports all ArcGIS Raster Datasets"
  }
 ],
 "defaultResamplingMethod": "Bilinear",
 "itemAccess": false,
 "minScale": 0,
 "serviceProperties": "Center<\/MosaicMethod>First<\/MosaicOperator>true<\/SortAscending><\/LockImageID><\/TileOrderField>0<\/TileOrderBase>0,000000<\/AvgImageSpacingX>0,000000<\/AvgImageSpacingY>0.0<\/ViewPointX>0.0<\/ViewPointY>0.0<\/ViewPointDefShiftX>0.0<\/ViewPointDefShiftY>None<\/CompressionMethod>75<\/CompressionQuality>0,010000<\/CompressionTolerance>Bilinear<\/SamplingMethod><\/ImageServiceProperties><\/ImageServer>",
 "advancedQueryCapabilities": {
  "supportsStatistics": false,
  "supportsSqlExpression": false,
  "supportsOrderBy": false,
  "useStandardizedQueries": false,
  "supportsPagination": false,
  "supportsDistinct": false
 },
 "capabilities": "Mensuration,Image,Metadata",
 "maxScale": 0,
 "stdvValues": [
  41.054281815526302,
  36.733651475082112,
  40.030439014831749
 ],
 "allowedFields": "",
 "minPixelSize": 0,
 "resampling": false,
 "sortAscending": true,
 "inspectionCapabilities": "",
 "maxPixelSize": 0,
 "uncompressedSize": 192000000,
 "serviceDescription": "08/mnisske_louky1_",
 "allowCopy": true,
 "copyrightText": "",
 "mensurationCapabilities": "Basic",
 "ownershipBasedAccessControlForRasters": null
}
