View In:
ArcGIS JavaScript
ArcGIS Online Map Viewer
ArcGIS Earth
Service Description: 08/Frydlant_bobr
Name: 08/Frydlant_bobr
Description:
Single Fused Map Cache: false
Extent:
XMin: 506674.574896604
YMin: 5642020.5652099475
XMax: 507199.7752063574
YMax: 5642493.245488726
Spatial Reference: 32633
(32633)
VCSWkid(5773)
LatestVCSWkid(5773)
Initial Extent:
XMin: 506674.574896604
YMin: 5642020.5652099475
XMax: 507199.7752063574
YMax: 5642493.245488726
Spatial Reference: 32633
(32633)
VCSWkid(5773)
LatestVCSWkid(5773)
Full Extent:
XMin: 506674.574896604
YMin: 5642020.5652099475
XMax: 507199.7752063574
YMax: 5642493.245488726
Spatial Reference: 32633
(32633)
VCSWkid(5773)
LatestVCSWkid(5773)
Pixel Size X: 0.026260015487670898
Pixel Size Y: 0.026260015487670898
Band Count: 3
Pixel Type: U8
RasterFunction Infos: {"rasterFunctionInfos": [{
"help": "",
"name": "None",
"description": ""
}]}
Mensuration Capabilities: Basic
Inspection Capabilities:
Has Histograms: true
Has Colormap: false
Has Multi Dimensions : false
Rendering Rule:
Min Scale: 0
Max Scale: 0
Resampling: false
Copyright Text:
Service Data Type: esriImageServiceDataTypeRGB
Min Values: 1, 1, 1
Max Values: 254, 254, 254
Mean Values: 137.47528723153562, 132.7562272264789, 109.59422689617793
Standard Deviation Values: 37.139797022324593, 33.881429905579772, 32.479480315306347
Object ID Field:
Fields:
None
Default Mosaic Method: Center
Allowed Mosaic Methods:
SortField:
SortValue: N/A
Mosaic Operator: First
Default Compression Quality: 75
Default Resampling Method: Bilinear
Max Record Count: null
Max Image Height: 4100
Max Image Width: 15000
Max Download Image Count: null
Max Mosaic Image Count: null
Allow Raster Function: true
Allow Copy: true
Allow Analysis: true
Allow Compute TiePoints: false
Supports Statistics: false
Supports Advanced Queries: false
Use StandardizedQueries: false
Raster Type Infos:
Name: Raster Dataset
Description: Supports all ArcGIS Raster Datasets
Help:
Has Raster Attribute Table: false
Edit Fields Info: N/A
Ownership Based AccessControl For Rasters: N/A
Child Resources:
Info
Histograms
Statistics
Key Properties
Legend
Raster Function Infos
Supported Operations:
Export Image
Identify
Measure
Compute Histograms
Compute Statistics Histograms
Get Samples
Compute Class Statistics
Query Boundary
Compute Pixel Location
Compute Angles
Validate
Project