View In:
ArcGIS JavaScript
ArcGIS Online Map Viewer
ArcGIS Earth
Service Description: 08/meandry_ploucnice
Name: 08/meandry_ploucnice
Description:
Single Fused Map Cache: false
Extent:
XMin: 480042.1155405637
YMin: 5608447.799567945
XMax: 481573.9377557218
YMax: 5609188.695399028
Spatial Reference: 32633
(32633)
VCSWkid(5773)
LatestVCSWkid(5773)
Initial Extent:
XMin: 480042.1155405637
YMin: 5608447.799567945
XMax: 481573.9377557218
YMax: 5609188.695399028
Spatial Reference: 32633
(32633)
VCSWkid(5773)
LatestVCSWkid(5773)
Full Extent:
XMin: 480042.1155405637
YMin: 5608447.799567945
XMax: 481573.9377557218
YMax: 5609188.695399028
Spatial Reference: 32633
(32633)
VCSWkid(5773)
LatestVCSWkid(5773)
Pixel Size X: 0.025530370252634747
Pixel Size Y: 0.025548132106308536
Band Count: 3
Pixel Type: U8
RasterFunction Infos: {"rasterFunctionInfos": [{
"help": "",
"name": "None",
"description": ""
}]}
Mensuration Capabilities: Basic
Inspection Capabilities:
Has Histograms: true
Has Colormap: false
Has Multi Dimensions : false
Rendering Rule:
Min Scale: 0
Max Scale: 0
Copyright Text:
Service Data Type: esriImageServiceDataTypeRGB
Min Values: 1, 1, 1
Max Values: 254, 254, 254
Mean Values: 104.544027899418, 116.91078972350854, 70.563360848250468
Standard Deviation Values: 60.82693153962569, 57.888042403518611, 46.028972171773034
Object ID Field:
Fields:
None
Default Mosaic Method: Center
Allowed Mosaic Methods:
SortField:
SortValue: N/A
Mosaic Operator: First
Default Compression Quality: 75
Default Resampling Method: Bilinear
Max Record Count: null
Max Image Height: 4100
Max Image Width: 15000
Max Download Image Count: null
Max Mosaic Image Count: null
Allow Raster Function: true
Allow Copy: true
Allow Analysis: true
Allow Compute TiePoints: false
Supports Statistics: false
Supports Advanced Queries: false
Use StandardizedQueries: false
Raster Type Infos:
Name: Raster Dataset
Description: Supports all ArcGIS Raster Datasets
Help:
Has Raster Attribute Table: false
Edit Fields Info: N/A
Ownership Based AccessControl For Rasters: N/A
Child Resources:
Info
Histograms
Statistics
Key Properties
Legend
Raster Function Infos
Supported Operations:
Export Image
Identify
Measure
Compute Histograms
Compute Statistics Histograms
Get Samples
Compute Class Statistics
Query Boundary
Compute Pixel Location
Compute Angles
Validate
Project