View In:
ArcGIS JavaScript
ArcGIS Online Map Viewer
ArcGIS Earth
Service Description: 08/ziznikov_ostrice
Name: 08/ziznikov_ostrice
Description:
Single Fused Map Cache: false
Extent:
XMin: 470995.0207040761
YMin: 5613546.0584330205
XMax: 471354.9648333469
YMax: 5613821.556301
Spatial Reference: 32633
(32633)
VCSWkid(5773)
LatestVCSWkid(5773)
Initial Extent:
XMin: 470995.0207040761
YMin: 5613546.0584330205
XMax: 471354.9648333469
YMax: 5613821.556301
Spatial Reference: 32633
(32633)
VCSWkid(5773)
LatestVCSWkid(5773)
Full Extent:
XMin: 470995.0207040761
YMin: 5613546.0584330205
XMax: 471354.9648333469
YMax: 5613821.556301
Spatial Reference: 32633
(32633)
VCSWkid(5773)
LatestVCSWkid(5773)
Pixel Size X: 0.021173184074752497
Pixel Size Y: 0.021192143690700715
Band Count: 3
Pixel Type: U8
RasterFunction Infos: {"rasterFunctionInfos": [{
"help": "",
"name": "None",
"description": ""
}]}
Mensuration Capabilities: Basic
Inspection Capabilities:
Has Histograms: true
Has Colormap: false
Has Multi Dimensions : false
Rendering Rule:
Min Scale: 0
Max Scale: 0
Resampling: false
Copyright Text:
Service Data Type: esriImageServiceDataTypeRGB
Min Values: 4, 8, 1
Max Values: 254, 254, 254
Mean Values: 131.29992766138403, 127.28833263503078, 122.20478552735436
Standard Deviation Values: 35.524994979514304, 33.57632303234876, 31.334178192991313
Object ID Field:
Fields:
None
Default Mosaic Method: Center
Allowed Mosaic Methods:
SortField:
SortValue: N/A
Mosaic Operator: First
Default Compression Quality: 75
Default Resampling Method: Bilinear
Max Record Count: null
Max Image Height: 4100
Max Image Width: 15000
Max Download Image Count: null
Max Mosaic Image Count: null
Allow Raster Function: true
Allow Copy: true
Allow Analysis: true
Allow Compute TiePoints: false
Supports Statistics: false
Supports Advanced Queries: false
Use StandardizedQueries: false
Raster Type Infos:
Name: Raster Dataset
Description: Supports all ArcGIS Raster Datasets
Help:
Has Raster Attribute Table: false
Edit Fields Info: N/A
Ownership Based AccessControl For Rasters: N/A
Child Resources:
Info
Histograms
Statistics
Key Properties
Legend
Raster Function Infos
Supported Operations:
Export Image
Identify
Measure
Compute Histograms
Compute Statistics Histograms
Get Samples
Compute Class Statistics
Query Boundary
Compute Pixel Location
Compute Angles
Validate
Project